BEGIN:VCALENDAR
VERSION:2.0
PRODID:icalendar-ruby
CALSCALE:GREGORIAN
METHOD:PUBLISH
BEGIN:VEVENT
DTSTAMP:20260423T093543Z
UID:12-780808@marketavenue.church
DTSTART:20260927T150000Z
DTEND:20260927T170000Z
CLASS:PUBLIC
CREATED:20260422T211230
DESCRIPTION:
LAST-MODIFIED:20260422T211230
LOCATION:Market Avenue Church of God
SUMMARY:Sunday Worship Service
URL;VALUE=URI:https://marketavenue.church/events/sunday-worship-service/202
 6-09-27
END:VEVENT
END:VCALENDAR
