BEGIN:VCALENDAR
VERSION:2.0
PRODID:icalendar-ruby
CALSCALE:GREGORIAN
METHOD:PUBLISH
BEGIN:VEVENT
DTSTAMP:20260423T123601Z
UID:12-781482@marketavenue.church
DTSTART:20261011T150000Z
DTEND:20261011T170000Z
CLASS:PUBLIC
CREATED:20260423T064219
DESCRIPTION:
LAST-MODIFIED:20260423T064219
LOCATION:Market Avenue Church of God
SUMMARY:Sunday Worship Service
URL;VALUE=URI:https://marketavenue.church/events/sunday-worship-service/202
 6-10-11
END:VEVENT
END:VCALENDAR
