BEGIN:VCALENDAR
VERSION:2.0
PRODID:icalendar-ruby
CALSCALE:GREGORIAN
METHOD:PUBLISH
BEGIN:VEVENT
DTSTAMP:20260423T155232Z
UID:12-782156@marketavenue.church
DTSTART:20261025T150000Z
DTEND:20261025T170000Z
CLASS:PUBLIC
CREATED:20260423T093548
DESCRIPTION:
LAST-MODIFIED:20260423T093548
LOCATION:Market Avenue Church of God
SUMMARY:Sunday Worship Service
URL;VALUE=URI:https://marketavenue.church/events/sunday-worship-service/202
 6-10-25
END:VEVENT
END:VCALENDAR
